BEGIN:VCALENDAR
VERSION:2.0
PRODID:-//81.88.36.52//NONSGML kigkonsult.se iCalcreator 2.20//
CALSCALE:GREGORIAN
METHOD:PUBLISH
X-WR-TIMEZONE:Europe/Vienna
BEGIN:VEVENT
UID:event2121@Online-Magazin SCHNAPPEN.AT: die interessanten Seiten des Leb
 ens
DTSTAMP:20260425T122139Z
CATEGORIES:Veranstaltungen
DESCRIPTION:Blaufränkischland Marathon\nKategorie: Veranstaltungen\nICS-Lin
 k: https://schnappen.at/oesterreich/index.php?option=com_jem&view=event&id
 =2121:blaufraenkischland-marathon\n
DTSTART;VALUE=DATE:20261003
DTEND;VALUE=DATE:20261004
SUMMARY:Blaufränkischland Marathon
URL:https://schnappen.at/oesterreich/index.php?option=com_jem&view=event&id
 =2121:blaufraenkischland-marathon
END:VEVENT
END:VCALENDAR