BEGIN:VCALENDAR
VERSION:2.0
PRODID:-//81.88.36.52//NONSGML kigkonsult.se iCalcreator 2.20//
CALSCALE:GREGORIAN
METHOD:PUBLISH
X-WR-TIMEZONE:Europe/Vienna
BEGIN:VEVENT
UID:event2120@Online-Magazin SCHNAPPEN.AT: die interessanten Seiten des Leb
 ens
DTSTAMP:20260425T122103Z
CATEGORIES:Veranstaltungen
DESCRIPTION:Tierschutzlauf Prater Hauptallee\nKategorie: Veranstaltungen\nI
 CS-Link: https://schnappen.at/oesterreich/index.php?option=com_jem&view=ev
 ent&id=2120:tierschutzlauf\n
DTSTART;VALUE=DATE:20261004
DTEND;VALUE=DATE:20261005
SUMMARY:Tierschutzlauf Prater Hauptallee
URL:https://schnappen.at/oesterreich/index.php?option=com_jem&view=event&id
 =2120:tierschutzlauf
END:VEVENT
END:VCALENDAR