BEGIN:VCALENDAR
VERSION:2.0
PRODID:-//81.88.36.52//NONSGML kigkonsult.se iCalcreator 2.20//
CALSCALE:GREGORIAN
METHOD:PUBLISH
X-WR-TIMEZONE:Europe/Vienna
BEGIN:VEVENT
UID:event211@Online-Magazin SCHNAPPEN.AT: die interessanten Seiten des Lebe
 ns
DTSTAMP:20260425T121936Z
CATEGORIES:Veranstaltungen
DESCRIPTION:Hans Theessink\nKategorie: Veranstaltungen\nICS-Link: https://s
 chnappen.at/oesterreich/index.php?option=com_jem&view=event&id=211:hans-th
 eessink\n
DTSTART;VALUE=DATE:20260514
DTEND;VALUE=DATE:20260515
LOCATION:Bühne Mayer Mödling\,Kaiserin Elisabeth Straße 22\,2340  Mödling
SUMMARY:Hans Theessink
URL:https://schnappen.at/oesterreich/index.php?option=com_jem&view=event&id
 =211:hans-theessink
END:VEVENT
END:VCALENDAR