BEGIN:VCALENDAR
VERSION:2.0
PRODID:-//81.88.36.52//NONSGML kigkonsult.se iCalcreator 2.20//
CALSCALE:GREGORIAN
METHOD:PUBLISH
X-WR-TIMEZONE:Europe/Vienna
BEGIN:VEVENT
UID:event2117@Online-Magazin SCHNAPPEN.AT: die interessanten Seiten des Leb
 ens
DTSTAMP:20260425T121918Z
CATEGORIES:Bauernmarkt & Adventmaerkte\, Wir berichten über...
DESCRIPTION:Winterwunder Mörbisch - größte Weihnachtskrippe der Welt\nKateg
 orie: Bauernmarkt & Adventmaerkte\, Wir berichten über...\nICS-Link: https
 ://schnappen.at/oesterreich/index.php?option=com_jem&view=event&id=2117:wi
 nterwunder-moerbisch\n
DTSTART;VALUE=DATE:20261120
DTEND;VALUE=DATE:20261231
LOCATION:Mörbisch am Neusiedlersee\,Strand\,7072 Mörbisch
SUMMARY:Winterwunder Mörbisch - größte Weihnachtskrippe der Welt
URL:https://schnappen.at/oesterreich/index.php?option=com_jem&view=event&id
 =2117:winterwunder-moerbisch
END:VEVENT
END:VCALENDAR