BEGIN:VCALENDAR
VERSION:2.0
PRODID:-//81.88.36.52//NONSGML kigkonsult.se iCalcreator 2.20//
CALSCALE:GREGORIAN
METHOD:PUBLISH
X-WR-TIMEZONE:Europe/Vienna
BEGIN:VEVENT
UID:event2115@Online-Magazin SCHNAPPEN.AT: die interessanten Seiten des Leb
 ens
DTSTAMP:20260424T152145Z
CATEGORIES:Veranstaltungen
DESCRIPTION:Kabarettist Manuel Thalhammer\nKategorie: Veranstaltungen\nICS-
 Link: https://schnappen.at/oesterreich/index.php?option=com_jem&view=event
 &id=2115:thalhammer\n
DTSTART;VALUE=DATE:20260619
DTEND;VALUE=DATE:20260620
SUMMARY:Kabarettist Manuel Thalhammer
URL:https://schnappen.at/oesterreich/index.php?option=com_jem&view=event&id
 =2115:thalhammer
END:VEVENT
END:VCALENDAR