BEGIN:VCALENDAR
VERSION:2.0
PRODID:-//81.88.36.52//NONSGML kigkonsult.se iCalcreator 2.20//
CALSCALE:GREGORIAN
METHOD:PUBLISH
X-WR-TIMEZONE:Europe/Vienna
BEGIN:VEVENT
UID:event210@Online-Magazin SCHNAPPEN.AT: die interessanten Seiten des Lebe
 ns
DTSTAMP:20260425T121820Z
CATEGORIES:Veranstaltungen
DESCRIPTION:Hans Theessink\nKategorie: Veranstaltungen\nICS-Link: https://s
 chnappen.at/oesterreich/index.php?option=com_jem&view=event&id=210:theessi
 nk\n
DTSTART;VALUE=DATE:20260704
DTEND;VALUE=DATE:20260705
LOCATION:Schloss Esterhazy Eisenstadt\,Esterházyplatz 5\,7000  Eisenstadt
SUMMARY:Hans Theessink
URL:https://schnappen.at/oesterreich/index.php?option=com_jem&view=event&id
 =210:theessink
END:VEVENT
END:VCALENDAR