BEGIN:VCALENDAR
VERSION:2.0
PRODID:-//81.88.36.52//NONSGML kigkonsult.se iCalcreator 2.20//
CALSCALE:GREGORIAN
METHOD:PUBLISH
X-WR-TIMEZONE:Europe/Vienna
BEGIN:VEVENT
UID:event2107@Online-Magazin SCHNAPPEN.AT: die interessanten Seiten des Leb
 ens
DTSTAMP:20260425T121915Z
CATEGORIES:Veranstaltungen\, Wir berichten über...
DESCRIPTION:Theater im Bunker\nKategorie: Veranstaltungen\, Wir berichten ü
 ber...\nICS-Link: https://schnappen.at/oesterreich/index.php?option=com_je
 m&view=event&id=2107:bunker-theater\n
DTSTART;VALUE=DATE:20260809
DTEND;VALUE=DATE:20260831
SUMMARY:Theater im Bunker
URL:https://schnappen.at/oesterreich/index.php?option=com_jem&view=event&id
 =2107:bunker-theater
END:VEVENT
END:VCALENDAR