BEGIN:VCALENDAR
VERSION:2.0
PRODID:-//81.88.36.52//NONSGML kigkonsult.se iCalcreator 2.20//
CALSCALE:GREGORIAN
METHOD:PUBLISH
X-WR-TIMEZONE:Europe/Vienna
BEGIN:VEVENT
UID:event2102@Online-Magazin SCHNAPPEN.AT: die interessanten Seiten des Leb
 ens
DTSTAMP:20260425T121237Z
CATEGORIES:Wir berichten über...\, Veranstaltungen
DESCRIPTION:Forestglade Festival 2026\nKategorie: Wir berichten über...\, V
 eranstaltungen\nICS-Link: https://schnappen.at/oesterreich/index.php?optio
 n=com_jem&view=event&id=2102:forestglade\n
DTSTART;VALUE=DATE:20260711
DTEND;VALUE=DATE:20260712
LOCATION:Schloss Esterhazy Eisenstadt\,Esterházyplatz 5\,7000  Eisenstadt
SUMMARY:Forestglade Festival 2026
URL:https://schnappen.at/oesterreich/index.php?option=com_jem&view=event&id
 =2102:forestglade
END:VEVENT
END:VCALENDAR