BEGIN:VCALENDAR
VERSION:2.0
PRODID:-//81.88.36.52//NONSGML kigkonsult.se iCalcreator 2.20//
CALSCALE:GREGORIAN
METHOD:PUBLISH
X-WR-TIMEZONE:Europe/Vienna
BEGIN:VEVENT
UID:event2082@Online-Magazin SCHNAPPEN.AT: die interessanten Seiten des Leb
 ens
DTSTAMP:20260425T105629Z
CATEGORIES:Veranstaltungen
DESCRIPTION:Festspiele Berndorf: Events\, Kabaretts & Auftritte\nKategorie:
  Veranstaltungen\nICS-Link: https://schnappen.at/oesterreich/index.php?opt
 ion=com_jem&view=event&id=2082:festspiele-berndorf\n
DTSTART;VALUE=DATE:20260610
DTEND;VALUE=DATE:20260611
LOCATION:Stadttheater Berndorf\,Kislingerplatz 6\,2560 Berndorf
SUMMARY:Festspiele Berndorf: Events\, Kabaretts & Auftritte
URL:https://schnappen.at/oesterreich/index.php?option=com_jem&view=event&id
 =2082:festspiele-berndorf
END:VEVENT
END:VCALENDAR