BEGIN:VCALENDAR
VERSION:2.0
PRODID:-//81.88.36.52//NONSGML kigkonsult.se iCalcreator 2.20//
CALSCALE:GREGORIAN
METHOD:PUBLISH
X-WR-TIMEZONE:Europe/Vienna
BEGIN:VEVENT
UID:event2081@Online-Magazin SCHNAPPEN.AT: die interessanten Seiten des Leb
 ens
DTSTAMP:20260425T105520Z
CATEGORIES:Veranstaltungen
DESCRIPTION:Oper Klosterneuburg\nKategorie: Veranstaltungen\nICS-Link: http
 s://schnappen.at/oesterreich/index.php?option=com_jem&view=event&id=2081:o
 per-klosterneuburg\n
DTSTART;VALUE=DATE:20260619
DTEND;VALUE=DATE:20260620
LOCATION:Stift Klosterneuburg\,Stiftsplatz 1\,3400 Klosterneuburg
SUMMARY:Oper Klosterneuburg
URL:https://schnappen.at/oesterreich/index.php?option=com_jem&view=event&id
 =2081:oper-klosterneuburg
END:VEVENT
END:VCALENDAR