BEGIN:VCALENDAR
VERSION:2.0
PRODID:-//81.88.36.52//NONSGML kigkonsult.se iCalcreator 2.20//
CALSCALE:GREGORIAN
METHOD:PUBLISH
X-WR-TIMEZONE:Europe/Vienna
BEGIN:VEVENT
UID:event2080@Online-Magazin SCHNAPPEN.AT: die interessanten Seiten des Leb
 ens
DTSTAMP:20260425T121917Z
CATEGORIES:Veranstaltungen
DESCRIPTION:Kultursommer Schloss Weitra 2026\nKategorie: Veranstaltungen\nI
 CS-Link: https://schnappen.at/oesterreich/index.php?option=com_jem&view=ev
 ent&id=2080:schloss-weitra\n
DTSTART;VALUE=DATE:20260703
DTEND;VALUE=DATE:20260803
SUMMARY:Kultursommer Schloss Weitra 2026
URL:https://schnappen.at/oesterreich/index.php?option=com_jem&view=event&id
 =2080:schloss-weitra
END:VEVENT
END:VCALENDAR