BEGIN:VCALENDAR
VERSION:2.0
PRODID:-//81.88.36.52//NONSGML kigkonsult.se iCalcreator 2.20//
CALSCALE:GREGORIAN
METHOD:PUBLISH
X-WR-TIMEZONE:Europe/Vienna
BEGIN:VEVENT
UID:event2076@Online-Magazin SCHNAPPEN.AT: die interessanten Seiten des Leb
 ens
DTSTAMP:20260425T122238Z
CATEGORIES:Termine noch offen
DESCRIPTION:Nacht in Tracht in Neudörfl\nKategorie: Termine noch offen\nICS
 -Link: https://schnappen.at/oesterreich/index.php?option=com_jem&view=even
 t&id=2076:nacht-in-tracht\n
DTSTART;VALUE=DATE:20261107
DTEND;VALUE=DATE:20261108
LOCATION:Martinihof Neudörfl\,Rathausplatz 4\,7201  Neudörfl
SUMMARY:Nacht in Tracht in Neudörfl
URL:https://schnappen.at/oesterreich/index.php?option=com_jem&view=event&id
 =2076:nacht-in-tracht
END:VEVENT
END:VCALENDAR