BEGIN:VCALENDAR
VERSION:2.0
PRODID:-//81.88.36.52//NONSGML kigkonsult.se iCalcreator 2.20//
CALSCALE:GREGORIAN
METHOD:PUBLISH
X-WR-TIMEZONE:Europe/Vienna
BEGIN:VEVENT
UID:event2075@Online-Magazin SCHNAPPEN.AT: die interessanten Seiten des Leb
 ens
DTSTAMP:20260425T122240Z
CATEGORIES:Termine noch offen
DESCRIPTION:Schulball BG/BRG Perchtoldsdorf\nKategorie: Termine noch offen
 \nICS-Link: https://schnappen.at/oesterreich/index.php?option=com_jem&view
 =event&id=2075:schulball-perchtoldsdorf\n
DTSTART;VALUE=DATE:20270306
DTEND;VALUE=DATE:20270307
LOCATION:Burg Perchtoldsdorf\,Paul-Klatzberger-Platz 1\,2380 Perchtoldsdorf
SUMMARY:Schulball BG/BRG Perchtoldsdorf
URL:https://schnappen.at/oesterreich/index.php?option=com_jem&view=event&id
 =2075:schulball-perchtoldsdorf
END:VEVENT
END:VCALENDAR