BEGIN:VCALENDAR
VERSION:2.0
PRODID:-//81.88.36.52//NONSGML kigkonsult.se iCalcreator 2.20//
CALSCALE:GREGORIAN
METHOD:PUBLISH
X-WR-TIMEZONE:Europe/Vienna
BEGIN:VEVENT
UID:event2072@Online-Magazin SCHNAPPEN.AT: die interessanten Seiten des Leb
 ens
DTSTAMP:20260425T121952Z
CATEGORIES:Veranstaltungen
DESCRIPTION:Ritterturnier zu Pferd im Schloss Laxenburg\nKategorie: Veranst
 altungen\nICS-Link: https://schnappen.at/oesterreich/index.php?option=com_
 jem&view=event&id=2072:ritterturnier-laxenburg\n
DTSTART;VALUE=DATE:20260926
DTEND;VALUE=DATE:20260929
SUMMARY:Ritterturnier zu Pferd im Schloss Laxenburg
URL:https://schnappen.at/oesterreich/index.php?option=com_jem&view=event&id
 =2072:ritterturnier-laxenburg
END:VEVENT
END:VCALENDAR