BEGIN:VCALENDAR
VERSION:2.0
PRODID:-//81.88.36.52//NONSGML kigkonsult.se iCalcreator 2.20//
CALSCALE:GREGORIAN
METHOD:PUBLISH
X-WR-TIMEZONE:Europe/Vienna
BEGIN:VEVENT
UID:event2066@Online-Magazin SCHNAPPEN.AT: die interessanten Seiten des Leb
 ens
DTSTAMP:20260425T121944Z
CATEGORIES:Veranstaltungen
DESCRIPTION:Faschingsumzug in Schönau an der Triesting \nKategorie: Veranst
 altungen\nICS-Link: https://schnappen.at/oesterreich/index.php?option=com_
 jem&view=event&id=2066:fasching-schoenau\n
DTSTART;VALUE=DATE:20270209
DTEND;VALUE=DATE:20270210
SUMMARY:Faschingsumzug in Schönau an der Triesting 
URL:https://schnappen.at/oesterreich/index.php?option=com_jem&view=event&id
 =2066:fasching-schoenau
END:VEVENT
END:VCALENDAR