BEGIN:VCALENDAR
VERSION:2.0
PRODID:-//81.88.36.52//NONSGML kigkonsult.se iCalcreator 2.20//
CALSCALE:GREGORIAN
METHOD:PUBLISH
X-WR-TIMEZONE:Europe/Vienna
BEGIN:VEVENT
UID:event2065@Online-Magazin SCHNAPPEN.AT: die interessanten Seiten des Leb
 ens
DTSTAMP:20260425T121808Z
CATEGORIES:Veranstaltungen
DESCRIPTION:Faschingsumzug in Neunkirchen\nKategorie: Veranstaltungen\nICS-
 Link: https://schnappen.at/oesterreich/index.php?option=com_jem&view=event
 &id=2065:fasching-neunkirchen\n
DTSTART;TZID=Europe/Vienna:20270209T140000
DTEND;TZID=Europe/Vienna:20270209T140000
SUMMARY:Faschingsumzug in Neunkirchen
URL:https://schnappen.at/oesterreich/index.php?option=com_jem&view=event&id
 =2065:fasching-neunkirchen
END:VEVENT
END:VCALENDAR