BEGIN:VCALENDAR
VERSION:2.0
PRODID:-//81.88.36.52//NONSGML kigkonsult.se iCalcreator 2.20//
CALSCALE:GREGORIAN
METHOD:PUBLISH
X-WR-TIMEZONE:Europe/Vienna
BEGIN:VEVENT
UID:event2064@Online-Magazin SCHNAPPEN.AT: die interessanten Seiten des Leb
 ens
DTSTAMP:20260425T121809Z
CATEGORIES:Veranstaltungen
DESCRIPTION:Faschingsumzug in Gloggnitz\nKategorie: Veranstaltungen\nICS-Li
 nk: https://schnappen.at/oesterreich/index.php?option=com_jem&view=event&i
 d=2064:fasching-gloggnitz\n
DTSTART;VALUE=DATE:20270209
DTEND;VALUE=DATE:20270210
SUMMARY:Faschingsumzug in Gloggnitz
URL:https://schnappen.at/oesterreich/index.php?option=com_jem&view=event&id
 =2064:fasching-gloggnitz
END:VEVENT
END:VCALENDAR