BEGIN:VCALENDAR
VERSION:2.0
PRODID:-//81.88.36.52//NONSGML kigkonsult.se iCalcreator 2.20//
CALSCALE:GREGORIAN
METHOD:PUBLISH
X-WR-TIMEZONE:Europe/Vienna
BEGIN:VEVENT
UID:event2062@Online-Magazin SCHNAPPEN.AT: die interessanten Seiten des Leb
 ens
DTSTAMP:20260425T122245Z
CATEGORIES:Termine noch offen
DESCRIPTION:Ball der Freiwilligen Feuerwehr\, der FF Wienersdorf Traiskirch
 en\nKategorie: Termine noch offen\nICS-Link: https://schnappen.at/oesterre
 ich/index.php?option=com_jem&view=event&id=2062:ff-ball-wienersdorf\n
DTSTART;VALUE=DATE:20270213
DTEND;VALUE=DATE:20270214
SUMMARY:Ball der Freiwilligen Feuerwehr\, der FF Wienersdorf Traiskirchen
URL:https://schnappen.at/oesterreich/index.php?option=com_jem&view=event&id
 =2062:ff-ball-wienersdorf
END:VEVENT
END:VCALENDAR