BEGIN:VCALENDAR
VERSION:2.0
PRODID:-//81.88.36.52//NONSGML kigkonsult.se iCalcreator 2.20//
CALSCALE:GREGORIAN
METHOD:PUBLISH
X-WR-TIMEZONE:Europe/Vienna
BEGIN:VEVENT
UID:event2060@Online-Magazin SCHNAPPEN.AT: die interessanten Seiten des Leb
 ens
DTSTAMP:20260425T122109Z
CATEGORIES:Veranstaltungen\, Wir berichten über...
DESCRIPTION:Faschingsumzug in Maiersdorf\nKategorie: Veranstaltungen\, Wir 
 berichten über...\nICS-Link: https://schnappen.at/oesterreich/index.php?op
 tion=com_jem&view=event&id=2060:fasching-maiersdorf\n
DTSTART;TZID=Europe/Vienna:20270207T140000
DTEND;TZID=Europe/Vienna:20270207T140000
SUMMARY:Faschingsumzug in Maiersdorf
URL:https://schnappen.at/oesterreich/index.php?option=com_jem&view=event&id
 =2060:fasching-maiersdorf
END:VEVENT
END:VCALENDAR