BEGIN:VCALENDAR
VERSION:2.0
PRODID:-//81.88.36.52//NONSGML kigkonsult.se iCalcreator 2.20//
CALSCALE:GREGORIAN
METHOD:PUBLISH
X-WR-TIMEZONE:Europe/Vienna
BEGIN:VEVENT
UID:event2057@Online-Magazin SCHNAPPEN.AT: die interessanten Seiten des Leb
 ens
DTSTAMP:20260425T121653Z
CATEGORIES:Veranstaltungen
DESCRIPTION:Shutdown Festival im Kernkraftwerk Zwentendorf\nKategorie: Vera
 nstaltungen\nICS-Link: https://schnappen.at/oesterreich/index.php?option=c
 om_jem&view=event&id=2057:shutdown\n
DTSTART;VALUE=DATE:20260808
DTEND;VALUE=DATE:20260809
SUMMARY:Shutdown Festival im Kernkraftwerk Zwentendorf
URL:https://schnappen.at/oesterreich/index.php?option=com_jem&view=event&id
 =2057:shutdown
END:VEVENT
END:VCALENDAR