BEGIN:VCALENDAR
VERSION:2.0
PRODID:-//81.88.36.52//NONSGML kigkonsult.se iCalcreator 2.20//
CALSCALE:GREGORIAN
METHOD:PUBLISH
X-WR-TIMEZONE:Europe/Vienna
BEGIN:VEVENT
UID:event2056@Online-Magazin SCHNAPPEN.AT: die interessanten Seiten des Leb
 ens
DTSTAMP:20260425T122210Z
CATEGORIES:Termine noch offen
DESCRIPTION:Landhausball St. Pölten 2027\nKategorie: Termine noch offen\nIC
 S-Link: https://schnappen.at/oesterreich/index.php?option=com_jem&view=eve
 nt&id=2056:landhausball\n
DTSTART;VALUE=DATE:20270212
DTEND;VALUE=DATE:20270213
SUMMARY:Landhausball St. Pölten 2027
URL:https://schnappen.at/oesterreich/index.php?option=com_jem&view=event&id
 =2056:landhausball
END:VEVENT
END:VCALENDAR