BEGIN:VCALENDAR
VERSION:2.0
PRODID:-//81.88.36.52//NONSGML kigkonsult.se iCalcreator 2.20//
CALSCALE:GREGORIAN
METHOD:PUBLISH
X-WR-TIMEZONE:Europe/Vienna
BEGIN:VEVENT
UID:event2053@Online-Magazin SCHNAPPEN.AT: die interessanten Seiten des Leb
 ens
DTSTAMP:20260425T105317Z
CATEGORIES:Veranstaltungen
DESCRIPTION:Josh\nKategorie: Veranstaltungen\nICS-Link: https://schnappen.a
 t/oesterreich/index.php?option=com_jem&view=event&id=2053:josh\n
DTSTART;VALUE=DATE:20260523
DTEND;VALUE=DATE:20260524
SUMMARY:Josh
URL:https://schnappen.at/oesterreich/index.php?option=com_jem&view=event&id
 =2053:josh
END:VEVENT
END:VCALENDAR