BEGIN:VCALENDAR
VERSION:2.0
PRODID:-//81.88.36.52//NONSGML kigkonsult.se iCalcreator 2.20//
CALSCALE:GREGORIAN
METHOD:PUBLISH
X-WR-TIMEZONE:Europe/Vienna
BEGIN:VEVENT
UID:event204@Online-Magazin SCHNAPPEN.AT: die interessanten Seiten des Lebe
 ns
DTSTAMP:20260425T105308Z
CATEGORIES:Veranstaltungen
DESCRIPTION:Draculade \nKategorie: Veranstaltungen\nICS-Link: https://schna
 ppen.at/oesterreich/index.php?option=com_jem&view=event&id=204:draculade\n
DTSTART;VALUE=DATE:20260530
DTEND;VALUE=DATE:20260531
LOCATION:Forchtenstein\, Hauptstr.\, 7212 Forchtenstein
SUMMARY:Draculade 
URL:https://schnappen.at/oesterreich/index.php?option=com_jem&view=event&id
 =204:draculade
END:VEVENT
END:VCALENDAR