BEGIN:VCALENDAR
VERSION:2.0
PRODID:-//81.88.36.52//NONSGML kigkonsult.se iCalcreator 2.20//
CALSCALE:GREGORIAN
METHOD:PUBLISH
X-WR-TIMEZONE:Europe/Vienna
BEGIN:VEVENT
UID:event2044@Online-Magazin SCHNAPPEN.AT: die interessanten Seiten des Leb
 ens
DTSTAMP:20260425T122246Z
CATEGORIES:Veranstaltungen
DESCRIPTION:Güssinger Faschingsumzug\nKategorie: Veranstaltungen\nICS-Link:
  https://schnappen.at/oesterreich/index.php?option=com_jem&view=event&id=2
 044:guessing-faschingsumzug\n
DTSTART;VALUE=DATE:20270209
DTEND;VALUE=DATE:20270210
SUMMARY:Güssinger Faschingsumzug
URL:https://schnappen.at/oesterreich/index.php?option=com_jem&view=event&id
 =2044:guessing-faschingsumzug
END:VEVENT
END:VCALENDAR