BEGIN:VCALENDAR
VERSION:2.0
PRODID:-//81.88.36.52//NONSGML kigkonsult.se iCalcreator 2.20//
CALSCALE:GREGORIAN
METHOD:PUBLISH
X-WR-TIMEZONE:Europe/Vienna
BEGIN:VEVENT
UID:event2040@Online-Magazin SCHNAPPEN.AT: die interessanten Seiten des Leb
 ens
DTSTAMP:20260425T122019Z
CATEGORIES:Termine noch offen
DESCRIPTION:Mittelaltermarkt zu Liesing\nKategorie: Termine noch offen\nICS
 -Link: https://schnappen.at/oesterreich/index.php?option=com_jem&view=even
 t&id=2040:adventmarkt-liesing\n
DTSTART;VALUE=DATE:20260821
DTEND;VALUE=DATE:20260824
SUMMARY:Mittelaltermarkt zu Liesing
URL:https://schnappen.at/oesterreich/index.php?option=com_jem&view=event&id
 =2040:adventmarkt-liesing
END:VEVENT
END:VCALENDAR