BEGIN:VCALENDAR
VERSION:2.0
PRODID:-//81.88.36.52//NONSGML kigkonsult.se iCalcreator 2.20//
CALSCALE:GREGORIAN
METHOD:PUBLISH
X-WR-TIMEZONE:Europe/Vienna
BEGIN:VEVENT
UID:event2033@Online-Magazin SCHNAPPEN.AT: die interessanten Seiten des Leb
 ens
DTSTAMP:20260425T121238Z
CATEGORIES:Veranstaltungen
DESCRIPTION:Festspiele Stockerau 2026\nKategorie: Veranstaltungen\nICS-Link
 : https://schnappen.at/oesterreich/index.php?option=com_jem&view=event&id=
 2033:stockerau\n
DTSTART;VALUE=DATE:20260731
DTEND;VALUE=DATE:20260824
LOCATION:Festspielbühne Stockerau\,Dr. Karl Renner Platz\,2000 Stockerau
SUMMARY:Festspiele Stockerau 2026
URL:https://schnappen.at/oesterreich/index.php?option=com_jem&view=event&id
 =2033:stockerau
END:VEVENT
END:VCALENDAR