BEGIN:VCALENDAR
VERSION:2.0
PRODID:-//81.88.36.52//NONSGML kigkonsult.se iCalcreator 2.20//
CALSCALE:GREGORIAN
METHOD:PUBLISH
X-WR-TIMEZONE:Europe/Vienna
BEGIN:VEVENT
UID:event2028@Online-Magazin SCHNAPPEN.AT: die interessanten Seiten des Leb
 ens
DTSTAMP:20260425T105458Z
CATEGORIES:Veranstaltungen
DESCRIPTION:Edmund\nKategorie: Veranstaltungen\nICS-Link: https://schnappen
 .at/oesterreich/index.php?option=com_jem&view=event&id=2028:edmund\n
DTSTART;VALUE=DATE:20260606
DTEND;VALUE=DATE:20260607
SUMMARY:Edmund
URL:https://schnappen.at/oesterreich/index.php?option=com_jem&view=event&id
 =2028:edmund
END:VEVENT
END:VCALENDAR