BEGIN:VCALENDAR
VERSION:2.0
PRODID:-//81.88.36.52//NONSGML kigkonsult.se iCalcreator 2.20//
CALSCALE:GREGORIAN
METHOD:PUBLISH
X-WR-TIMEZONE:Europe/Vienna
BEGIN:VEVENT
UID:event2017@Online-Magazin SCHNAPPEN.AT: die interessanten Seiten des Leb
 ens
DTSTAMP:20260425T121942Z
CATEGORIES:Veranstaltungen
DESCRIPTION:Theater in Eisenstadt\nKategorie: Veranstaltungen\nICS-Link: ht
 tps://schnappen.at/oesterreich/index.php?option=com_jem&view=event&id=2017
 :theater-eisenstadt\n
DTSTART;VALUE=DATE:20260513
DTEND;VALUE=DATE:20260514
LOCATION:Kulturzentrum Eisenstadt\,Franz Schubert Platz 6\,7000  Eisenstadt
SUMMARY:Theater in Eisenstadt
URL:https://schnappen.at/oesterreich/index.php?option=com_jem&view=event&id
 =2017:theater-eisenstadt
END:VEVENT
END:VCALENDAR