BEGIN:VCALENDAR
VERSION:2.0
PRODID:-//81.88.36.52//NONSGML kigkonsult.se iCalcreator 2.20//
CALSCALE:GREGORIAN
METHOD:PUBLISH
X-WR-TIMEZONE:Europe/Vienna
BEGIN:VEVENT
UID:event2016@Online-Magazin SCHNAPPEN.AT: die interessanten Seiten des Leb
 ens
DTSTAMP:20260425T121915Z
CATEGORIES:Termine noch offen
DESCRIPTION:Ball der PfadfinderInnen Mattersburg\nKategorie: Termine noch o
 ffen\nICS-Link: https://schnappen.at/oesterreich/index.php?option=com_jem&
 view=event&id=2016:pfadfinder-ball\n
DTSTART;VALUE=DATE:20270109
DTEND;VALUE=DATE:20270110
SUMMARY:Ball der PfadfinderInnen Mattersburg
URL:https://schnappen.at/oesterreich/index.php?option=com_jem&view=event&id
 =2016:pfadfinder-ball
END:VEVENT
END:VCALENDAR