BEGIN:VCALENDAR
VERSION:2.0
PRODID:-//81.88.36.52//NONSGML kigkonsult.se iCalcreator 2.20//
CALSCALE:GREGORIAN
METHOD:PUBLISH
X-WR-TIMEZONE:Europe/Vienna
BEGIN:VEVENT
UID:event2015@Online-Magazin SCHNAPPEN.AT: die interessanten Seiten des Leb
 ens
DTSTAMP:20260425T122022Z
CATEGORIES:Termine noch offen
DESCRIPTION:Stadtball in Neufeld\nKategorie: Termine noch offen\nICS-Link: 
 https://schnappen.at/oesterreich/index.php?option=com_jem&view=event&id=20
 15:stadtball-neufeld\n
DTSTART;VALUE=DATE:20270109
DTEND;VALUE=DATE:20270110
LOCATION:Neufelder See\,Eisenstädter Str. 37\,2492 Neufeld a. d. Leitha
SUMMARY:Stadtball in Neufeld
URL:https://schnappen.at/oesterreich/index.php?option=com_jem&view=event&id
 =2015:stadtball-neufeld
END:VEVENT
END:VCALENDAR