BEGIN:VCALENDAR
VERSION:2.0
PRODID:-//81.88.36.52//NONSGML kigkonsult.se iCalcreator 2.20//
CALSCALE:GREGORIAN
METHOD:PUBLISH
X-WR-TIMEZONE:Europe/Vienna
BEGIN:VEVENT
UID:event2012@Online-Magazin SCHNAPPEN.AT: die interessanten Seiten des Leb
 ens
DTSTAMP:20260425T105225Z
CATEGORIES:Veranstaltungen
DESCRIPTION:Billy Talent \nKategorie: Veranstaltungen\nICS-Link: https://sc
 hnappen.at/oesterreich/index.php?option=com_jem&view=event&id=2012:billy-t
 alent\n
DTSTART;VALUE=DATE:20260615
DTEND;VALUE=DATE:20260616
LOCATION:Arena Wien\,Baumgasse 80\,1030 Wien
SUMMARY:Billy Talent 
URL:https://schnappen.at/oesterreich/index.php?option=com_jem&view=event&id
 =2012:billy-talent
END:VEVENT
END:VCALENDAR