BEGIN:VCALENDAR
VERSION:2.0
PRODID:-//81.88.36.52//NONSGML kigkonsult.se iCalcreator 2.20//
CALSCALE:GREGORIAN
METHOD:PUBLISH
X-WR-TIMEZONE:Europe/Vienna
BEGIN:VEVENT
UID:event2011@Online-Magazin SCHNAPPEN.AT: die interessanten Seiten des Leb
 ens
DTSTAMP:20260425T121810Z
CATEGORIES:Wir berichten über...\, Veranstaltungen
DESCRIPTION:Butterfly Dance Festival 2026 in Eisenstadt\nKategorie: Wir ber
 ichten über...\, Veranstaltungen\nICS-Link: https://schnappen.at/oesterrei
 ch/index.php?option=com_jem&view=event&id=2011:butterfly-dance\n
DTSTART;VALUE=DATE:20260710
DTEND;VALUE=DATE:20260711
LOCATION:Schloss Esterhazy Eisenstadt\,Esterházyplatz 5\,7000  Eisenstadt
SUMMARY:Butterfly Dance Festival 2026 in Eisenstadt
URL:https://schnappen.at/oesterreich/index.php?option=com_jem&view=event&id
 =2011:butterfly-dance
END:VEVENT
END:VCALENDAR