BEGIN:VCALENDAR
VERSION:2.0
PRODID:-//81.88.36.52//NONSGML kigkonsult.se iCalcreator 2.20//
CALSCALE:GREGORIAN
METHOD:PUBLISH
X-WR-TIMEZONE:Europe/Vienna
BEGIN:VEVENT
UID:event2000@Online-Magazin SCHNAPPEN.AT: die interessanten Seiten des Leb
 ens
DTSTAMP:20260425T122140Z
CATEGORIES:Veranstaltungen
DESCRIPTION:Schloss Wilfersdorf\, NÖ: Schlossführung\nKategorie: Veranstalt
 ungen\nICS-Link: https://schnappen.at/oesterreich/index.php?option=com_jem
 &view=event&id=2000:schloss-wilfersdorf\n
DTSTART;TZID=Europe/Vienna:20260503T200000
DTEND;TZID=Europe/Vienna:20260503T200000
SUMMARY:Schloss Wilfersdorf\, NÖ: Schlossführung
URL:https://schnappen.at/oesterreich/index.php?option=com_jem&view=event&id
 =2000:schloss-wilfersdorf
END:VEVENT
END:VCALENDAR