BEGIN:VCALENDAR
VERSION:2.0
PRODID:-//81.88.36.52//NONSGML kigkonsult.se iCalcreator 2.20//
CALSCALE:GREGORIAN
METHOD:PUBLISH
X-WR-TIMEZONE:Europe/Vienna
BEGIN:VEVENT
UID:event1991@Online-Magazin SCHNAPPEN.AT: die interessanten Seiten des Leb
 ens
DTSTAMP:20260425T121954Z
CATEGORIES:Veranstaltungen
DESCRIPTION:Partielle Sonnenfinsternis\nKategorie: Veranstaltungen\nICS-Lin
 k: https://schnappen.at/oesterreich/index.php?option=com_jem&view=event&id
 =1991:sonnenfinsternis\n
DTSTART;VALUE=DATE:20260812
DTEND;VALUE=DATE:20260813
SUMMARY:Partielle Sonnenfinsternis
URL:https://schnappen.at/oesterreich/index.php?option=com_jem&view=event&id
 =1991:sonnenfinsternis
END:VEVENT
END:VCALENDAR