BEGIN:VCALENDAR
VERSION:2.0
PRODID:-//81.88.36.52//NONSGML kigkonsult.se iCalcreator 2.20//
CALSCALE:GREGORIAN
METHOD:PUBLISH
X-WR-TIMEZONE:Europe/Vienna
BEGIN:VEVENT
UID:event1989@Online-Magazin SCHNAPPEN.AT: die interessanten Seiten des Leb
 ens
DTSTAMP:20260425T121945Z
CATEGORIES:Veranstaltungen
DESCRIPTION:Rise Against in Österreich und Deutschland\nKategorie: Veransta
 ltungen\nICS-Link: https://schnappen.at/oesterreich/index.php?option=com_j
 em&view=event&id=1989:rise-against\n
DTSTART;VALUE=DATE:20260704
DTEND;VALUE=DATE:20260705
SUMMARY:Rise Against in Österreich und Deutschland
URL:https://schnappen.at/oesterreich/index.php?option=com_jem&view=event&id
 =1989:rise-against
END:VEVENT
END:VCALENDAR