BEGIN:VCALENDAR
VERSION:2.0
PRODID:-//81.88.36.52//NONSGML kigkonsult.se iCalcreator 2.20//
CALSCALE:GREGORIAN
METHOD:PUBLISH
X-WR-TIMEZONE:Europe/Vienna
BEGIN:VEVENT
UID:event1980@Online-Magazin SCHNAPPEN.AT: die interessanten Seiten des Leb
 ens
DTSTAMP:20260425T105333Z
CATEGORIES:Veranstaltungen
DESCRIPTION:Rebell Comedy mit Comedian Benaissa Lamroubal in Österreich und
  Deutschland\nKategorie: Veranstaltungen\nICS-Link: https://schnappen.at/o
 esterreich/index.php?option=com_jem&view=event&id=1980:lamroubal\n
DTSTART;VALUE=DATE:20260610
DTEND;VALUE=DATE:20260611
SUMMARY:Rebell Comedy mit Comedian Benaissa Lamroubal in Österreich und Deu
 tschland
URL:https://schnappen.at/oesterreich/index.php?option=com_jem&view=event&id
 =1980:lamroubal
END:VEVENT
END:VCALENDAR