BEGIN:VCALENDAR
VERSION:2.0
PRODID:-//81.88.36.52//NONSGML kigkonsult.se iCalcreator 2.20//
CALSCALE:GREGORIAN
METHOD:PUBLISH
X-WR-TIMEZONE:Europe/Vienna
BEGIN:VEVENT
UID:event1979@Online-Magazin SCHNAPPEN.AT: die interessanten Seiten des Leb
 ens
DTSTAMP:20260425T121920Z
CATEGORIES:Veranstaltungen
DESCRIPTION:Rumfestival\nKategorie: Veranstaltungen\nICS-Link: https://schn
 appen.at/oesterreich/index.php?option=com_jem&view=event&id=1979:rumfestiv
 al\n
DTSTART;VALUE=DATE:20260918
DTEND;VALUE=DATE:20260919
LOCATION:Ottakringer Brauerei Wien\,Ottakringer Platz 1\,1160 Wien
SUMMARY:Rumfestival
URL:https://schnappen.at/oesterreich/index.php?option=com_jem&view=event&id
 =1979:rumfestival
END:VEVENT
END:VCALENDAR