BEGIN:VCALENDAR
VERSION:2.0
PRODID:-//81.88.36.52//NONSGML kigkonsult.se iCalcreator 2.20//
CALSCALE:GREGORIAN
METHOD:PUBLISH
X-WR-TIMEZONE:Europe/Vienna
BEGIN:VEVENT
UID:event1974@Online-Magazin SCHNAPPEN.AT: die interessanten Seiten des Leb
 ens
DTSTAMP:20260425T121822Z
CATEGORIES:Veranstaltungen
DESCRIPTION:Igel Vs. Shark\, Wiener Rockband in Österreich \nKategorie: Ver
 anstaltungen\nICS-Link: https://schnappen.at/oesterreich/index.php?option=
 com_jem&view=event&id=1974:igel-vs-shark\n
DTSTART;VALUE=DATE:20260716
DTEND;VALUE=DATE:20260717
SUMMARY:Igel Vs. Shark\, Wiener Rockband in Österreich 
URL:https://schnappen.at/oesterreich/index.php?option=com_jem&view=event&id
 =1974:igel-vs-shark
END:VEVENT
END:VCALENDAR