BEGIN:VCALENDAR
VERSION:2.0
PRODID:-//81.88.36.52//NONSGML kigkonsult.se iCalcreator 2.20//
CALSCALE:GREGORIAN
METHOD:PUBLISH
X-WR-TIMEZONE:Europe/Vienna
BEGIN:VEVENT
UID:event1969@Online-Magazin SCHNAPPEN.AT: die interessanten Seiten des Leb
 ens
DTSTAMP:20260425T121813Z
CATEGORIES:Veranstaltungen
DESCRIPTION:Oldtimer WM 2026: Traktoren\nKategorie: Veranstaltungen\nICS-Li
 nk: https://schnappen.at/oesterreich/index.php?option=com_jem&view=event&i
 d=1969:oldtimer-traktor-feuerwehr\n
DTSTART;VALUE=DATE:20260917
DTEND;VALUE=DATE:20260921
SUMMARY:Oldtimer WM 2026: Traktoren
URL:https://schnappen.at/oesterreich/index.php?option=com_jem&view=event&id
 =1969:oldtimer-traktor-feuerwehr
END:VEVENT
END:VCALENDAR