BEGIN:VCALENDAR
VERSION:2.0
PRODID:-//81.88.36.52//NONSGML kigkonsult.se iCalcreator 2.20//
CALSCALE:GREGORIAN
METHOD:PUBLISH
X-WR-TIMEZONE:Europe/Vienna
BEGIN:VEVENT
UID:event1960@Online-Magazin SCHNAPPEN.AT: die interessanten Seiten des Leb
 ens
DTSTAMP:20260425T105520Z
CATEGORIES:Veranstaltungen
DESCRIPTION:OÖ Sommerfrische\, das Genussfest und Erlebnisfestival\nKategor
 ie: Veranstaltungen\nICS-Link: https://schnappen.at/oesterreich/index.php?
 option=com_jem&view=event&id=1960:sommerfrische\n
DTSTART;VALUE=DATE:20260529
DTEND;VALUE=DATE:20260531
SUMMARY:OÖ Sommerfrische\, das Genussfest und Erlebnisfestival
URL:https://schnappen.at/oesterreich/index.php?option=com_jem&view=event&id
 =1960:sommerfrische
END:VEVENT
END:VCALENDAR