BEGIN:VCALENDAR
VERSION:2.0
PRODID:-//81.88.36.52//NONSGML kigkonsult.se iCalcreator 2.20//
CALSCALE:GREGORIAN
METHOD:PUBLISH
X-WR-TIMEZONE:Europe/Vienna
BEGIN:VEVENT
UID:event1958@Online-Magazin SCHNAPPEN.AT: die interessanten Seiten des Leb
 ens
DTSTAMP:20260425T110605Z
CATEGORIES:Veranstaltungen
DESCRIPTION:Starnacht am Neusiedler See\nKategorie: Veranstaltungen\nICS-Li
 nk: https://schnappen.at/oesterreich/index.php?option=com_jem&view=event&i
 d=1958:starnacht-neusiedler-see\n
DTSTART;VALUE=DATE:20260529
DTEND;VALUE=DATE:20260531
LOCATION:Mörbisch am Neusiedlersee\,Strand\,7072 Mörbisch
SUMMARY:Starnacht am Neusiedler See
URL:https://schnappen.at/oesterreich/index.php?option=com_jem&view=event&id
 =1958:starnacht-neusiedler-see
END:VEVENT
END:VCALENDAR