BEGIN:VCALENDAR
VERSION:2.0
PRODID:-//81.88.36.52//NONSGML kigkonsult.se iCalcreator 2.20//
CALSCALE:GREGORIAN
METHOD:PUBLISH
X-WR-TIMEZONE:Europe/Vienna
BEGIN:VEVENT
UID:event1953@Online-Magazin SCHNAPPEN.AT: die interessanten Seiten des Leb
 ens
DTSTAMP:20260425T110030Z
CATEGORIES:Veranstaltungen
DESCRIPTION:Danish String Quartet in Deutschland\nKategorie: Veranstaltunge
 n\nICS-Link: https://schnappen.at/oesterreich/index.php?option=com_jem&vie
 w=event&id=1953:danish-string\n
DTSTART;VALUE=DATE:20260522
DTEND;VALUE=DATE:20260523
SUMMARY:Danish String Quartet in Deutschland
URL:https://schnappen.at/oesterreich/index.php?option=com_jem&view=event&id
 =1953:danish-string
END:VEVENT
END:VCALENDAR