BEGIN:VCALENDAR
VERSION:2.0
PRODID:-//81.88.36.52//NONSGML kigkonsult.se iCalcreator 2.20//
CALSCALE:GREGORIAN
METHOD:PUBLISH
X-WR-TIMEZONE:Europe/Vienna
BEGIN:VEVENT
UID:event1952@Online-Magazin SCHNAPPEN.AT: die interessanten Seiten des Leb
 ens
DTSTAMP:20260425T121207Z
CATEGORIES:Veranstaltungen
DESCRIPTION:Etta Scollo\nKategorie: Veranstaltungen\nICS-Link: https://schn
 appen.at/oesterreich/index.php?option=com_jem&view=event&id=1952:etta-scol
 lo\n
DTSTART;TZID=Europe/Vienna:20260806T193000
DTEND;TZID=Europe/Vienna:20260806T193000
LOCATION:Wien Theater Akzent\,Theresianumgasse 18\,1040 Wien
SUMMARY:Etta Scollo
URL:https://schnappen.at/oesterreich/index.php?option=com_jem&view=event&id
 =1952:etta-scollo
END:VEVENT
END:VCALENDAR