BEGIN:VCALENDAR
VERSION:2.0
PRODID:-//81.88.36.52//NONSGML kigkonsult.se iCalcreator 2.20//
CALSCALE:GREGORIAN
METHOD:PUBLISH
X-WR-TIMEZONE:Europe/Vienna
BEGIN:VEVENT
UID:event1948@Online-Magazin SCHNAPPEN.AT: die interessanten Seiten des Leb
 ens
DTSTAMP:20260425T121652Z
CATEGORIES:Wir berichten über...\, Veranstaltungen
DESCRIPTION:Sternsingeraktion der Katholischen Jungschar & der Regenwald\nK
 ategorie: Wir berichten über...\, Veranstaltungen\nICS-Link: https://schna
 ppen.at/oesterreich/index.php?option=com_jem&view=event&id=1948:sternsinge
 n\n
DTSTART;VALUE=DATE:20270104
DTEND;VALUE=DATE:20270105
SUMMARY:Sternsingeraktion der Katholischen Jungschar & der Regenwald
URL:https://schnappen.at/oesterreich/index.php?option=com_jem&view=event&id
 =1948:sternsingen
END:VEVENT
END:VCALENDAR