BEGIN:VCALENDAR
VERSION:2.0
PRODID:-//81.88.36.52//NONSGML kigkonsult.se iCalcreator 2.20//
CALSCALE:GREGORIAN
METHOD:PUBLISH
X-WR-TIMEZONE:Europe/Vienna
BEGIN:VEVENT
UID:event1946@Online-Magazin SCHNAPPEN.AT: die interessanten Seiten des Leb
 ens
DTSTAMP:20260425T121630Z
CATEGORIES:Termine noch offen
DESCRIPTION:Stadtball Ebenfurth\nKategorie: Termine noch offen\nICS-Link: h
 ttps://schnappen.at/oesterreich/index.php?option=com_jem&view=event&id=194
 6:ebenfurth-ball\n
DTSTART;VALUE=DATE:20270116
DTEND;VALUE=DATE:20270117
SUMMARY:Stadtball Ebenfurth
URL:https://schnappen.at/oesterreich/index.php?option=com_jem&view=event&id
 =1946:ebenfurth-ball
END:VEVENT
END:VCALENDAR