BEGIN:VCALENDAR
VERSION:2.0
PRODID:-//81.88.36.52//NONSGML kigkonsult.se iCalcreator 2.20//
CALSCALE:GREGORIAN
METHOD:PUBLISH
X-WR-TIMEZONE:Europe/Vienna
BEGIN:VEVENT
UID:event1929@Online-Magazin SCHNAPPEN.AT: die interessanten Seiten des Leb
 ens
DTSTAMP:20260425T121940Z
CATEGORIES:Veranstaltungen
DESCRIPTION:Vienna City Marathon & Laufevents in Wien: Frauenlauf\nKategori
 e: Veranstaltungen\nICS-Link: https://schnappen.at/oesterreich/index.php?o
 ption=com_jem&view=event&id=1929:vienna-marathon\n
DTSTART;VALUE=DATE:20270418
DTEND;VALUE=DATE:20270419
SUMMARY:Vienna City Marathon & Laufevents in Wien: Frauenlauf
URL:https://schnappen.at/oesterreich/index.php?option=com_jem&view=event&id
 =1929:vienna-marathon
END:VEVENT
END:VCALENDAR