BEGIN:VCALENDAR
VERSION:2.0
PRODID:-//81.88.36.52//NONSGML kigkonsult.se iCalcreator 2.20//
CALSCALE:GREGORIAN
METHOD:PUBLISH
X-WR-TIMEZONE:Europe/Vienna
BEGIN:VEVENT
UID:event1924@Online-Magazin SCHNAPPEN.AT: die interessanten Seiten des Leb
 ens
DTSTAMP:20260425T104847Z
CATEGORIES:Heurigentermine\, Veranstaltungen
DESCRIPTION:Weinfrühling Wienerwald\nKategorie: Heurigentermine\, Veranstal
 tungen\nICS-Link: https://schnappen.at/oesterreich/index.php?option=com_je
 m&view=event&id=1924:wienerwald-wein\n
DTSTART;VALUE=DATE:20260521
DTEND;VALUE=DATE:20260526
SUMMARY:Weinfrühling Wienerwald
URL:https://schnappen.at/oesterreich/index.php?option=com_jem&view=event&id
 =1924:wienerwald-wein
END:VEVENT
END:VCALENDAR