BEGIN:VCALENDAR
VERSION:2.0
PRODID:-//81.88.36.52//NONSGML kigkonsult.se iCalcreator 2.20//
CALSCALE:GREGORIAN
METHOD:PUBLISH
X-WR-TIMEZONE:Europe/Vienna
BEGIN:VEVENT
UID:event1923@Online-Magazin SCHNAPPEN.AT: die interessanten Seiten des Leb
 ens
DTSTAMP:20260425T121238Z
CATEGORIES:Veranstaltungen
DESCRIPTION:Reggae: Kabaka Pyramid in Österreich und der Schweiz\nKategorie
 : Veranstaltungen\nICS-Link: https://schnappen.at/oesterreich/index.php?op
 tion=com_jem&view=event&id=1923:reggae\n
DTSTART;VALUE=DATE:20261023
DTEND;VALUE=DATE:20261024
SUMMARY:Reggae: Kabaka Pyramid in Österreich und der Schweiz
URL:https://schnappen.at/oesterreich/index.php?option=com_jem&view=event&id
 =1923:reggae
END:VEVENT
END:VCALENDAR