BEGIN:VCALENDAR
VERSION:2.0
PRODID:-//81.88.36.52//NONSGML kigkonsult.se iCalcreator 2.20//
CALSCALE:GREGORIAN
METHOD:PUBLISH
X-WR-TIMEZONE:Europe/Vienna
BEGIN:VEVENT
UID:event1916@Online-Magazin SCHNAPPEN.AT: die interessanten Seiten des Leb
 ens
DTSTAMP:20260425T121654Z
CATEGORIES:Termine noch offen
DESCRIPTION:'Ghost - Nachricht von Sam' 2026 auf der Felsenbühne Staatz\nKa
 tegorie: Termine noch offen\nICS-Link: https://schnappen.at/oesterreich/in
 dex.php?option=com_jem&view=event&id=1916:staatz\n
DTSTART;VALUE=DATE:20260731
DTEND;VALUE=DATE:20260816
LOCATION:Felsenbühne Staatz\,Neudorfer Straße 7\,2134 Staatz-Kautendorf
SUMMARY:'Ghost - Nachricht von Sam' 2026 auf der Felsenbühne Staatz
URL:https://schnappen.at/oesterreich/index.php?option=com_jem&view=event&id
 =1916:staatz
END:VEVENT
END:VCALENDAR