BEGIN:VCALENDAR
VERSION:2.0
PRODID:-//81.88.36.52//NONSGML kigkonsult.se iCalcreator 2.20//
CALSCALE:GREGORIAN
METHOD:PUBLISH
X-WR-TIMEZONE:Europe/Vienna
BEGIN:VEVENT
UID:event1915@Online-Magazin SCHNAPPEN.AT: die interessanten Seiten des Leb
 ens
DTSTAMP:20260425T105504Z
CATEGORIES:Veranstaltungen
DESCRIPTION:My Ugly Clementine in Deutschland\nKategorie: Veranstaltungen\n
 ICS-Link: https://schnappen.at/oesterreich/index.php?option=com_jem&view=e
 vent&id=1915:ugly-clementine\n
DTSTART;VALUE=DATE:20260527
DTEND;VALUE=DATE:20260528
SUMMARY:My Ugly Clementine in Deutschland
URL:https://schnappen.at/oesterreich/index.php?option=com_jem&view=event&id
 =1915:ugly-clementine
END:VEVENT
END:VCALENDAR